BEGIN:VCALENDAR
VERSION:2.0
PRODID:-//wp-events-plugin.com//7.2.3.1//EN
TZID:Europe/London
X-WR-TIMEZONE:Europe/London
BEGIN:VEVENT
UID:444@clubplay.net
DTSTART;TZID=Europe/London:20250509T200000
DTEND;TZID=Europe/London:20250510T030000
DTSTAMP:20250331T124943Z
URL:https://clubplay.net/events/50-shedes-of-play/
SUMMARY:🩷🩵 50 SHADES OF PLAY 🩷🩵 CLUB PLAY 🩷🩵 - FRI 9TH MA
 Y - 🩷🩵 8pm - 3am
DESCRIPTION:PLAY YOUR WAY !!!!\n\n50 SHADES HAS RETURNED 🍑😈\n\n❤️
 🧡💛💚🩷💙🩵💜🤍\n\nWether you like to warm up into the ni
 ght socializing/having a boogie on the dancefloor or get right down into i
 t this is the night for you!\n\nA perfect way maybe to test out those new 
 toys or slip on that slinky number you totally bought yourself the other d
 ay!!!\n\nYou may want to try and take a dip in our brand new heated pool??
 ?\n\n(No full on play allowed in the pool or jacuzzi)\n\nMaybe a trip into
  our dungeon takes your fancy to see if those bdsm toys really work nicely
 .\n\nWith over 19 playrooms the choice is YOURS to decide!!!\n\nFancy a fl
 irt round the pool table (rack em up) and play with those BALLS 🎱\n\n(
 £1 per game)\n\nWith so many different aspects to swinging the club provi
 des rooms to cater for ALL!!!\n\nNew air con systems have been fitted thro
 ughout the club (can only mean getting naked quicker )\n.\nWith saying tha
 t the girls will be on hand to refresh you at the bar.\n(This is a BYOB ni
 ght)\n\n🍾 🍾 🍾 🍾 🍾 🍾 🍾 🍾 🍾 🍾 🍾\nTowel char
 ge of £1 is in place but we welcome you to bring your own should you wish
  to.\n\nA £10 locker deposit will be required\n\n(This can be redeemed of
 f your drinks bill or returned at the end of the night)\n\n.**DONT FANCY D
 OING TEA BEFORE SETTING OFF TO PARTY WELL DONT FEAR I GOT YOU COVERED THER
 E WILL BE HOTDOGS &amp\; SNACKS ON THE NIGHT**\n\n🌭 🧁 🌭 🧁 🌭
  🧁 🌭 🧁 🌭 🧁 🌭\n\nWHOS COMING TO SEE THE CHANGES WE MADE 
 😈😈😈\n\nSingle males .........£30\n\nCouples........£30\n\nSingl
 e females......FREE\n\nTgirls........£15\n\n**🚫REMEMBER NO MEANS NO AT
  ALL TIMES🚫**\n\nThis GOLDEN RULE has to be followed at all times... (i
 f NOT adhered to you will be asked to LEAVE)\n\nLike to join us ???\n\nThe
 n pop your names onto the guestlist below and il look forward to welcoming
  you with the CLUB PLAY team 🍑🌈
ATTACH;FMTTYPE=image/jpeg:https://clubplay.net/wp-content/uploads/2025/03/
 Screenshot_20250331_134846_Samsung-Internet.jpg
LOCATION:Clu Play\, Back Ribble Road\, Blackpool\, Lancashire\, FY1 4AB\, U
 nited Kingdom
X-APPLE-STRUCTURED-LOCATION;VALUE=URI;X-ADDRESS=Back Ribble Road\, Blackpoo
 l\, Lancashire\, FY1 4AB\, United Kingdom;X-APPLE-RADIUS=100;X-TITLE=Clu P
 lay:geo:0,0
END:VEVENT
BEGIN:VTIMEZONE
TZID:Europe/London
X-LIC-LOCATION:Europe/London
BEGIN:DAYLIGHT
DTSTART:20250330T020000
TZOFFSETFROM:+0000
TZOFFSETTO:+0100
TZNAME:BST
END:DAYLIGHT
END:VTIMEZONE
END:VCALENDAR