BEGIN:VCALENDAR
VERSION:2.0
PRODID:-//wp-events-plugin.com//7.2.3.1//EN
TZID:Europe/London
X-WR-TIMEZONE:Europe/London
BEGIN:VEVENT
UID:431@clubplay.net
DTSTART;TZID=Europe/London:20250412T200000
DTEND;TZID=Europe/London:20250413T030000
DTSTAMP:20250213T192343Z
URL:https://clubplay.net/events/ads-%f0%9f%a9%b5%f0%9f%a9%b7%f0%9f%92%9bcl
 ub-play-presents-uv-r-the-party-saturday-12th-april-8pm-3am-%f0%9f%a9%b5%f
 0%9f%a9%b7%f0%9f%92%9b/
SUMMARY:ads 🩵🩷💛Club Play Presents UV.R THE PARTY Saturday 12th Apr
 il 8pm - 3am 🩵🩷💛
DESCRIPTION:9Our Infamous UV Parties Are Back Brighter Than Ever With Our U
 V Revolution Volume 3️⃣..... Doll's Birthday Bash 🎂 🥳 🎉\n\nTh
 is Night Is A Party... Correction YOU Are The Party 🩵🩷💛\n\nYou Ar
 e In The Very Capable Hands 🤥 Of Two Very High Energy and Well Establis
 hed Hosts....Peachy123 🍑 &amp\; DollFace 🖤\n\nAnd The Bling On The U
 V Revolution Is That We Have Dawn To Fully Encourage All Of Our Ultra Viol
 et Antics ! ✨️✨️✨️✨️✨️\n\nNot Forgetting The Boss man 
 Himself Paul Providing His Bespoke DJ Sets! 🎵🎧\n\nThe Stunning Lexi 
 Lovemore Will Be Face And Body Painting With UV Paints &amp\; Glitter Blin
 g #Picasso 😏 🎨🖌\n\n🩵🩷💛Join Us To Embrace All That Is Neo
 n And Bling 🩵🩷💛\n\nI May Be Celebrating My Birthday But More So I
  Want To Celebrate You ... All Of You Are What Makes Our Community The Gif
 t 🎁 That It Is 🩵🩷💛\n\n🧔Don't Get Me Wrong If You Want To Gi
 ft Your Beard For Service...I Won't Say no xxx\n\n🩵Tours Are Available 
 For New Guests.\n\n( Please Try To Arrive Sooner Rather Than Later As It C
 an Get Busy) 🩵\n\n🩷The Night Also Offers \;\n\n💛Entertainment 
 😘\n\n🩷Going Back To My Roots - OLD SKOOL GAMES 😜🦖\n\n💛Prize
  For The Best Dressed\n\n🩷Freebies 🎁\n\n💛🆓️ Shots 🥃....Pr
 eferably Licked From Bodies 😜\n\n🩷🆓️Buffet 😋\n\n👗What Do 
 I Wear ❓️ We Hear You Say ...\n\nDress code - Wear What Makes You Feel
  Good! 🩷🩵💛\n\n🩵We Do Encourage UV\, Neon\, Bright Outfits ...
 But ❗This Is Not Compulsory..Wear What You Feel Good In 🩷\n\n💛Dres
 s  Down For Upper Play Areas Is Compulsory.👙\n\n🩵As Always Single L
 adies Are 🆓️ So Grab Your Gal Pals And Spend The Night Free From Inhi
 bitions! 🆓️\n\nThere Will Be  A Delectable Buffet Served On The Nigh
 t To Keep You Fuelled. 🍽\n\nℹ️ENTRY Information ℹ️\n\nCouples -
  £35\n\nSingle Men - £35\n\nSingle Ladies - 🆓️\n\nTgirls -£15\n\n
 £10 Refundable Locker Deposit Is Also Required. This Is Returned Upon Lea
 ving Or Used Against Drinks Purchased From The Bar.\n\nThis Is A BYOB (Bri
 ng Your Own Booze) Event However Please Purchase Soft Drinks/Mixers/Tea &a
 mp\; Coffee From The Club’s ’s Well Stocked Bar. 😀\n\n❌Please Do 
 Not Bring Your Own Mixers.❌\n\nIf You Bring Mixers That Are Not Stocked 
 There Will Be A £1 Corkage Charge Per Drink.\n\nThere Is A £1 Towel Hire
  Charge But You Are Welcome To Bring Your Own Towel If You Want To.\n\nAdd
  Your Names Now To Secure Your Entry 🩷🩵💛\n\nThe Club Play Team Al
 ong With Myself &amp\; Peachy123 Look Forward To Giving You A Vibrant Welc
 ome 🩷🩵💛\n\n🩷🩵💛🎂🥳🎉🍾🩷🩵💛
ATTACH;FMTTYPE=image/jpeg:https://clubplay.net/wp-content/uploads/2025/02/
 IMG_20250213_191519_550.jpg
LOCATION:Club Play\, Back Ribble Road\, Blackpool\, Lancashire\, FY1 4AD\, 
 United Kingdom
X-APPLE-STRUCTURED-LOCATION;VALUE=URI;X-ADDRESS=Back Ribble Road\, Blackpoo
 l\, Lancashire\, FY1 4AD\, United Kingdom;X-APPLE-RADIUS=100;X-TITLE=Club 
 Play:geo:0,0
END:VEVENT
BEGIN:VTIMEZONE
TZID:Europe/London
X-LIC-LOCATION:Europe/London
BEGIN:DAYLIGHT
DTSTART:20250330T020000
TZOFFSETFROM:+0000
TZOFFSETTO:+0100
TZNAME:BST
END:DAYLIGHT
END:VTIMEZONE
END:VCALENDAR