BEGIN:VCALENDAR
VERSION:2.0
PRODID:-//wp-events-plugin.com//7.2.3.1//EN
TZID:Europe/London
X-WR-TIMEZONE:Europe/London
BEGIN:VEVENT
UID:239@clubplay.net
DTSTART;TZID=Europe/London:20230902T120000
DTEND;TZID=Europe/London:20230903T030000
DTSTAMP:20230830T171018Z
URL:https://clubplay.net/events/back-to-uv-sat-2nd-sept-club-play-12pm-3am
 /
SUMMARY:** BACK TO UV! ** Sat 2nd Sept * CLUB PLAY ** 12PM-3AM
DESCRIPTION:** UV PARTY ** BACK TO UV **\n\nSat 2nd September\n\nClub Play\
 n\nBlackpool\n\nTo celebrate the return to school for the kids after a lon
 g summer holiday Ms Fussy Biatch brings you ** BACK TO UV ** with optional
  school uniform theme! Bonus points if you have a neon one!! \n\nThe club
  opens at 12pm (noon) for a chilled-out day before the real party begins a
 t 8pm!!\n\nIf you've attended one of Ms FB'S previous UV parties you will 
 know these are nights not to be missed!\n\nWe love to party &amp\; sociali
 ze so we're bringing you an all-out party with the best dance tunes\, glow
  sticks\, uv paint &amp\; a fun night of partying\, dancing &amp\; all the
  fun of any other club night.\n\nLet your hair down\, drag out your favori
 te party wear &amp\; come along &amp\; join us!\n\nThis is going to be ano
 ther amazing night with UV body painting as always for you sexy guests! Bu
 t that's not all... this time around Ms Fussy Biatch has arranged for a pr
 ofessional photographer to come in &amp\; take photos of you all glowing f
 or your use wherever you want to display them! These parties just get bett
 er! \n\nClub Play has excellent facilities\n\n&amp\; plenty of private pla
 yrooms with **NEW AIR CON** throughout to cater for all your fantasies inc
 luding female glory holes &amp\; an open stage! Of course the *NEW* wet ar
 ea with Hot Tub &amp\; heated pool are perfect for winding down in too.\n\
 nAs per all club nights\, the standard rule of NO means NO will apply and 
 breaking of this rule will not be tolerated.\n\nThis is a bring-your-own-a
 lcohol event just purchase soft drinks at the bar.\n\nPrices are~\n\nDay o
 nly (12pm-7pm)\n\nCouples £15\n\nSingle males £15\n\nT girls £7\n\nSing
 le ladies *FREE ENTRY*\n\nNight only (8pm-3am)\n\nCouples £30\n\nSingle m
 ales £30\n\nSingle females *FREE ENTRY*\n\nT girls £10\n\nOr grab yourse
 lf a bargain 15 hours &amp\; do the day &amp\; night for just £40 for cou
 ples &amp\; Single guys!\n\nT girls £15\n\nSingle ladies *FREE ENTRY*\n\n
 There is also a refundable £10 locker deposit less any drinks purchased f
 rom the bar.\n\n£1 towel charge will be in place although you are welcome
  to bring your own towel if you like.\n\nThere will also be a draw on the 
 night for anyone attending who lists a meet on their profile for *FREE ENT
 RY* to the next UV Party!!\n\nAdding a meet also helps you to find &amp\; 
 connect with anyone else who's attending\n\n**FREE ENTRY SUNDAY** for atte
 nding any Friday or Saturday night!!\n\nWe look forward to seeing you ther
 e!  
ATTACH;FMTTYPE=image/jpeg:https://clubplay.net/wp-content/uploads/2023/08/
 IMG-20230825-WA0004.jpg
LOCATION:Club Play\, Back Ribble Road\, Blackpool\, Lancashire\, FY1 4AD\, 
 United Kingdom
X-APPLE-STRUCTURED-LOCATION;VALUE=URI;X-ADDRESS=Back Ribble Road\, Blackpoo
 l\, Lancashire\, FY1 4AD\, United Kingdom;X-APPLE-RADIUS=100;X-TITLE=Club 
 Play:geo:0,0
END:VEVENT
BEGIN:VTIMEZONE
TZID:Europe/London
X-LIC-LOCATION:Europe/London
BEGIN:DAYLIGHT
DTSTART:20230326T020000
TZOFFSETFROM:+0000
TZOFFSETTO:+0100
TZNAME:BST
END:DAYLIGHT
END:VTIMEZONE
END:VCALENDAR