BEGIN:VCALENDAR
VERSION:2.0
PRODID:-//wp-events-plugin.com//7.2.3.1//EN
TZID:Europe/London
X-WR-TIMEZONE:Europe/London
BEGIN:VEVENT
UID:379@clubplay.net
DTSTART;TZID=Europe/London:20240928T140000
DTEND;TZID=Europe/London:20240929T030000
DTSTAMP:20240808T114143Z
URL:https://clubplay.net/events/club-play-presents-obsession-saturday-28th
 -september-2024-8pm-3am/
SUMMARY:Club Play Presents Obsession Saturday 28th September 2024\, 8pm - 3
 am
DESCRIPTION:Club Play Presents Obsession Saturday 28th September 2024\, 8pm
  - 3am\nCreated from a burning desire to offer a unique swinging series\, 
 Obsession will be the flagship event by Dollface and Lexi Lovemore.\n\nObs
 ession promises a unique experience where desire and fascination meet in a
  spellbinding atmosphere.\n\nTours Are Available For New Guests.\n\nThe Ni
 ght Also Offers \;\n\nEntertainment\n\nGames\n\nFreebies\n\nFree Shots\n\n
 Free Buffet\n\nWhat Do I Wear ? We Hear You Say ...\n\nDress Code - Wear W
 hat Makes You Feel Confident and Sexy! Bring out your inner Sirens\, Incub
 i\, Tempressess and Mythological Outfits\, But This Is Not Compulsory.\n\n
 Dress  Down For Upper Play Areas Is Compulsory.\n\nClub Information\n\nDA
 YTIME-ONLY ENTRY PRICE -\n\n2pm- 8pm\n\nCouples - £15\n\nSingle Men - £1
 5\n\nSingle Ladies - FREE\n\nTgirls\, Trans &amp\; Crossdressers - £7.50\
 n\nEVENING-ONLY ENTRY PRICE -\n\n8pm- 3am\n\nIncludes a FREE buffet\n\nCou
 ples - £35\n\nSingle Men - £35\n\nSingle Ladies - FREE\n\nTgirls\, Trans
  &amp\; Crossdressers -£15\n\nALL DAY &amp\; NIGHT ENTRY PRICE\n\n2pm- 3a
 m\n\nStay All Day And Night Until 3 am Or Leave And Come Back At Any Time 
 Or Skip The Queue &amp\; Get  A Locker Coming Earlier FOR JUST £5 EXTRA\
 n\nIncludes A FREE buffet\n\nCouples - £40\n\nSingle Men - £40\n\nSingle
  Ladies -FREE\n\nTgirls\, Trans &amp\; Crossdressers - £20\n\n£10 Refund
 able Locker Deposit Is Also Required. This Is Returned Upon Leaving Or Use
 d Against Drinks Purchased From The Bar.\n\nThis Is a BYOB (bring your own
  booze) Event. However\, Please Purchase Soft Drinks/Mixers/Tea &amp\; Cof
 fee From The Club’s well-stocked bar. Please Do Not Bring Your Own Mixer
 s.\n\nIf You Bring Mixers That Are Not Stocked\, There Will Be A £1 Corka
 ge Charge Per Drink.\n\nAdd Your Names Now To Secure Your Entry.\n\nThe Cl
 ub Play Team\, Along With Myself &amp\; Dollface\, Look Forward To Giving 
 You a Vibrant Welcome!\n\nIt's time to set yourself free and surrender to 
 your Obsession......."\n\nClara x
ATTACH;FMTTYPE=image/jpeg:https://clubplay.net/wp-content/uploads/2024/08/
 Screenshot_20240807_194954_WhatsApp.jpg
LOCATION:Club Play\, Back Ribble Road\, Blackpool\, Lancashire\, FY1 4AD\, 
 United Kingdom
X-APPLE-STRUCTURED-LOCATION;VALUE=URI;X-ADDRESS=Back Ribble Road\, Blackpoo
 l\, Lancashire\, FY1 4AD\, United Kingdom;X-APPLE-RADIUS=100;X-TITLE=Club 
 Play:geo:0,0
END:VEVENT
BEGIN:VTIMEZONE
TZID:Europe/London
X-LIC-LOCATION:Europe/London
BEGIN:DAYLIGHT
DTSTART:20240331T020000
TZOFFSETFROM:+0000
TZOFFSETTO:+0100
TZNAME:BST
END:DAYLIGHT
END:VTIMEZONE
END:VCALENDAR