BEGIN:VCALENDAR
VERSION:2.0
PRODID:-//wp-events-plugin.com//7.2.3.1//EN
TZID:Europe/London
X-WR-TIMEZONE:Europe/London
BEGIN:VEVENT
UID:284@clubplay.net
DTSTART;TZID=Europe/London:20231209T130000
DTEND;TZID=Europe/London:20231210T030000
DTSTAMP:20231031T065809Z
URL:https://clubplay.net/events/elves-behaving-badly-club-play-saturday-9t
 h-december-1pm-3am/
SUMMARY:***ELVES BEHAVING BADLY @ CLUB PLAY SATURDAY 9TH DECEMBER 1PM - 3AM
  ***
DESCRIPTION:Don't be the elf that's left on the shelf\, get yourselves alon
 g to CLUB PLAY on Saturday the 9th of December 1pm - 3am and help me make 
 it a naughty night to remember.Hosted by - ANGELORDEVIL\n\nAs the title sa
 ys\, elves behaving badly. We've all heard of elf on the shelf and if you 
 haven't where have you been? So\, let's bring some of those naughty elves 
 alive and re-enact some of those naughty positions they get into. I have s
 omething to help with this\, all will be revealed on the night. Fancy dres
 s is optional\, but would be great to see a good mix of sexy\, naughty elv
 es on the night.\n\nWe now have a NEW fantastic pool/wet area and NEW Air 
 conditioning/heating and cooling system in the entire club! A NEW outside 
 smoking area. Full on Play is allowed throughout the club except our pool/
 hot tub\, but of course NO still means NO.\n\nWe have a well equipped Dung
 eon\, Kink room\,Stage\, Gang Bang room\, Couples room\, sauna plus all th
 e other playrooms and now with female glory holes included in the 19 play 
 rooms.\n\nEntry price -\n\nDAYTIME-ONLY ENTRY PRICE -\n\n1pm- 8pm\n\nCoupl
 es - £15\n\nSingle Men - £15\n\nSingle Ladies - FREE\n\nTgirls\, Trans &
 amp\; Crossdressers - £7\n\nEVENING-ONLY ENTRY PRICE -\n\n8pm- 3am\n\nInc
 ludes a FREE buffet\n\nCouples - £30\n\nSingle Men - £30\n\nSingle Ladie
 s - FREE\n\nTgirls\, Trans &amp\; Crossdressers -£10\n\nALL DAY &amp\; NI
 GHT ENTRY PRICE\n\n1pm - 3am\n\nStay all day and night until 3 am or leave
  and come back at any time you like xxx\n\nIncludes a FREE buffet\n\nCoupl
 es - £40\n\nSingle Men - £40\n\nSingle Ladies -FREE\n\nTgirls\, Trans &a
 mp\; Crossdressers -£15\n\nAttend any event on Friday or Saturday evening
  and get FREE entry on the Sunday!\n\nTowels are available @ £1 each or y
 ou are welcome to bring your own.\n\nRefundable locker Key deposit £10\n\
 nThis is a bring your own alcohol event just purchase soft drinks and mixe
 rs at the bar.\n\nPlease do not bring your own mixers. If you bring mixers
  that we do not stock there will be a £1 corkage charge per drink.\n\nTo 
 get on the guest list please add your names on here or private message the
  club.
ATTACH;FMTTYPE=image/jpeg:https://clubplay.net/wp-content/uploads/2023/10/
 IMG-20231031-WA0001.jpg
LOCATION:Club Play\, Back Ribble Road\, Blackpool\, Lancashire\, FY1 4AD\, 
 United Kingdom
X-APPLE-STRUCTURED-LOCATION;VALUE=URI;X-ADDRESS=Back Ribble Road\, Blackpoo
 l\, Lancashire\, FY1 4AD\, United Kingdom;X-APPLE-RADIUS=100;X-TITLE=Club 
 Play:geo:0,0
END:VEVENT
BEGIN:VTIMEZONE
TZID:Europe/London
X-LIC-LOCATION:Europe/London
BEGIN:STANDARD
DTSTART:20231029T010000
TZOFFSETFROM:+0100
TZOFFSETTO:+0000
TZNAME:GMT
END:STANDARD
END:VTIMEZONE
END:VCALENDAR