BEGIN:VCALENDAR
VERSION:2.0
PRODID:-//wp-events-plugin.com//7.2.3.1//EN
TZID:Europe/London
X-WR-TIMEZONE:Europe/London
BEGIN:VEVENT
UID:403@clubplay.net
DTSTART;TZID=Europe/London:20241220T200000
DTEND;TZID=Europe/London:20241221T030000
DTSTAMP:20241218T112531Z
URL:https://clubplay.net/events/freeplayfriday20thdececember2024/
SUMMARY:🎁  FESTIVE FREE PLAY FRIDAY 20th 🎁 @ CLUB PLAY COUPLES\, LADI
 ES\,TGIRLS\, SINGLE MEN ALL FREE ENTRY!
DESCRIPTION:🎄🎅 FESTIVE FREE PLAY FRIDAY 🎅🎄\nYES\, IT’S TOTALL
 Y FREE ENTRY FOR –\n\nCOUPLES\, SINGLE LADIES\,T GIRLS &amp\; SINGLES ME
 N!!\n\n🎁 EVERYONE GETS IN FREE! 🎁\n\n*** OUR PRESENTS TO YOU ***\n\n
 Place – Club Play – FrI 20th December - 2024\n\nTime – 8 pm – 3 am
 \n\nHosts – Club Play – Paul 😉 &amp\; Dawn 💋\n\nEntry price –\
 n\nMembership – FREE\n\nCouples – FREE\n\nSingle Ladies – FREE\n\nTg
 irls\,TS\,s\,Trans – FREE\n\nSingle Men – FREE –  FULL FOR SINGLE M
 EN!\n\nA refundable £10 locker deposit is all that’s required AND to be
  on the guest list!\n\nTowel Hire – £1 or bring your own.\n\nMINIMUM SP
 END OFF £10 ON SOFT DRINKS FROM THE BAR! \n\nWe like to be innovative &a
 mp\; different at Club Play and give back &amp\; show you all some love fo
 r Christmas (luv)\n\nIf you need accommodation get it booked now at reason
 able prices not to be disappointed and the reason we listed this event so 
 early!\n\nWe expect this night to be very busy so get your names down NOW 
 as we expect this to be a full house &amp\; we will stop the guest list wh
 en it is full!\n\nSee you there xxx\n\nTo add to the guest list please add
  a comment below or message the club directly xxx\n\nPaul 😉 &amp\; Dawn
  💋
ATTACH;FMTTYPE=image/jpeg:https://clubplay.net/wp-content/uploads/2022/06/
 Free-play-Friday.png
LOCATION:Club Play\, Back Ribble Road\, Blackpool\, Lancashire\, FY1 4AD\, 
 United Kingdom
X-APPLE-STRUCTURED-LOCATION;VALUE=URI;X-ADDRESS=Back Ribble Road\, Blackpoo
 l\, Lancashire\, FY1 4AD\, United Kingdom;X-APPLE-RADIUS=100;X-TITLE=Club 
 Play:geo:0,0
END:VEVENT
BEGIN:VTIMEZONE
TZID:Europe/London
X-LIC-LOCATION:Europe/London
BEGIN:STANDARD
DTSTART:20241027T010000
TZOFFSETFROM:+0100
TZOFFSETTO:+0000
TZNAME:GMT
END:STANDARD
END:VTIMEZONE
END:VCALENDAR