BEGIN:VCALENDAR
VERSION:2.0
PRODID:-//wp-events-plugin.com//7.2.3.1//EN
TZID:Europe/London
X-WR-TIMEZONE:Europe/London
BEGIN:VEVENT
UID:228@clubplay.net
DTSTART;TZID=Europe/London:20230811T200000
DTEND;TZID=Europe/London:20230812T030000
DTSTAMP:20230717T150229Z
URL:https://clubplay.net/events/fuck-fest-friday-11th-julyaugust-club-play
 -8pm-3am/
SUMMARY:Fuck Fest Friday 11th August @ Club Play 8pm - 3am
DESCRIPTION:\n\n 	**** FULL ON PLAY NO HOLD-BARRED EVENT ****\n\n\nThis eve
 nt will Be hosted by –\n\nDirty Filthy Milf\n\nThis Event is for those w
 ho like to play &amp\; HARD!!\n\nThis will be a no bars play anywhere &amp
 \; everywhere event (except in the wet area)\, of course\, NO still means 
 NO but this event is for those of you who like to get down and dirty fast!
 !\n\nGreedy Couples\n\nGreedy boys\, Girls\n\nBukkake\n\nOrgies\n\nGangban
 gs\n\nPlay with multiple people\n\nHot Wifeing &amp\; Husbanding\n\nCuckol
 d couples of all Natures\n\nAll are welcome including Males\, Couples\, Fe
 males\, Tgirls\, EVERYONE!!\n\nBrand new air conditioning throughout the c
 lub so we can keep the temperature under control!\n\nWe have a Fuck Fest s
 tage\, Gang Bang room\, and an Orgy room plus all the other playrooms and 
 a Bukkake room for the event by popular demand and the female glory holes 
 included in the 19 rooms with wet area included with hot tub\, pool and sa
 una.\n\nSingle Guy numbers will be capped to a % of the guest we feel appr
 opriate for an event of this nature\n\nThis a bring-your-own alcohol event
 \, just purchase soft drinks at the bar.\n\nCost of this event –\n\nFREE
  – SINGLE LADIES\n\n£25 Couple\n\n£25 Single Guys\n\n£10 Trans &amp\;
  TGirls\n\nTowels £1 each\n\nRefundable locker deposit £10\n\nRemember s
 ingle ladies it's FREE @ club play ALL THE TIME!\n\nAlso\, remember if you
  attend Club Play Friday or Saturday night you get in club play completely
  FREE 2pm - 2am on that Sunday.\n\nClub Play - Doing more so you can Play 
 Longer!\n\nTo add your name/names to the guest list\, please leave a comme
 nt below or message the club directly xxx
ATTACH;FMTTYPE=image/jpeg:https://clubplay.net/wp-content/uploads/2022/07/
 fuck-fest.jpg
LOCATION:Club Play\, Back Ribble Road\, Blackpool\, Lancashire\, FY1 4AD\, 
 United Kingdom
X-APPLE-STRUCTURED-LOCATION;VALUE=URI;X-ADDRESS=Back Ribble Road\, Blackpoo
 l\, Lancashire\, FY1 4AD\, United Kingdom;X-APPLE-RADIUS=100;X-TITLE=Club 
 Play:geo:0,0
END:VEVENT
BEGIN:VTIMEZONE
TZID:Europe/London
X-LIC-LOCATION:Europe/London
BEGIN:DAYLIGHT
DTSTART:20230326T020000
TZOFFSETFROM:+0000
TZOFFSETTO:+0100
TZNAME:BST
END:DAYLIGHT
END:VTIMEZONE
END:VCALENDAR