BEGIN:VCALENDAR
VERSION:2.0
PRODID:-//wp-events-plugin.com//7.2.3.1//EN
TZID:Europe/London
X-WR-TIMEZONE:Europe/London
BEGIN:VEVENT
UID:164@clubplay.net
DTSTART;TZID=Europe/London:20230224T200000
DTEND;TZID=Europe/London:20230225T030000
DTSTAMP:20230111T080050Z
URL:https://clubplay.net/events/swingathon/
SUMMARY:**** SWINGATHON DOES CLUB PLAY FRI 24th Feb - CARRY ON SWINGING - N
 EON meets OLDSKOOL ****
DESCRIPTION:Carry On Swinging-Swingathon comes to Blackpool ⛱️\n\nHosti
 ng at ClubPlay - Swingathon\n\nJoin us Friday evening for a Naughty Swinga
 thon Party - Back to the 90s 🥳 if you have been to Swingathon festival 
 or any of our carry on swinging events you will know we can through a good
  party 🎉\n\nNEON meets OLDSKOOL!\nA treat on arrival 😉\nBuffet avail
 able into the night 🍱🥂\n\nDon your wavey garms🏄‍♀️ lace up 
 your dancing shoes...🕺 and grab your glow sticks as you prepare to expe
 rience the madness of the Carry On Swinging neon 90s party! 🎉 This one 
 is for all you motherfunkers and retro ravers!! 💽\n\nBEST DRESSED NEON 
 OUTFITS WIN A PRIZE ON THE NIGHT! Make sure you dress to IMPRESS neon 90
 ’s style!! 🦄\n\nWhy not take part in one of our Spicy games to keep t
 he flow.. PRIZE winner for each one 🏆 🥇\n\nNew refurb in place - wit
 h over 19 playrooms the choice is yours!\nWith so many different aspects t
 o Swinging the club provides rooms to cater for all..\n\nA towel charge of
  £1 Is in place\, but we welcome you to bring your own.\nA £10 locker de
 posit is required\, this can be returned of your drinks bill or returned a
 t the end of your night. 🍸\n\nCouples... £25\nSingle guy... £25\nWome
 n... £10\nT-Girls ... £10\n\n**Remember no means NO! At all times**\nThe
  golden rule has to be followed at all times please.\n\nLike to join us?? 
 Pop your name onto the Guestlist below or message the club directly 😈
ATTACH;FMTTYPE=image/jpeg:https://clubplay.net/wp-content/uploads/2023/01/
 IMG-20230107-WA0006.jpg
LOCATION:Club Play\, Back Ribble Road\, Blackpool\, Lancashire\, FY1 4AB\, 
 United Kingdom
X-APPLE-STRUCTURED-LOCATION;VALUE=URI;X-ADDRESS=Back Ribble Road\, Blackpoo
 l\, Lancashire\, FY1 4AB\, United Kingdom;X-APPLE-RADIUS=100;X-TITLE=Club 
 Play:geo:0,0
END:VEVENT
BEGIN:VTIMEZONE
TZID:Europe/London
X-LIC-LOCATION:Europe/London
BEGIN:STANDARD
DTSTART:20221030T010000
TZOFFSETFROM:+0100
TZOFFSETTO:+0000
TZNAME:GMT
END:STANDARD
END:VTIMEZONE
END:VCALENDAR