BEGIN:VCALENDAR
VERSION:2.0
PRODID:-//wp-events-plugin.com//7.2.3.1//EN
TZID:Europe/London
X-WR-TIMEZONE:Europe/London
BEGIN:VEVENT
UID:123@clubplay.net
DTSTART;TZID=Europe/London:20220910T200000
DTEND;TZID=Europe/London:20220911T030000
DTSTAMP:20220822T092002Z
URL:https://clubplay.net/events/urge-sat-10th-sept-club-play-blackpool/
SUMMARY:URGE SAT 10th SEPT @ CLUB PLAY BLACKPOOL
DESCRIPTION:* BLACKPOOL *\n\nCLUB PLAY AND HOT HOSTESS PURPLE-LUST BRING YO
 U URGE !!!\n\nThe Urge is back again !!!\n\n***These feelings just can not
  be suppressed those desires still need satisfying***\n\nURGE IS CALLING -
 \n\n*** MILFS *** &amp\; those who want them?\n\n*** GREEDY GIRLS *** CUM 
 &amp\; fulfill that urge?\n\n*** HOT COUPLES *** get on the list?\n\n*** C
 UCKHOLD *** bring your urges to club play?\n\nCOUPLES\, CURVY GIRLS\, SING
 LE MEN SINGLE WOMAN\, BI\, TV\, TS your all invited!!!\n\nI'm hosting a ni
 ght for all those that just have to have more!!! &amp\; those who can sati
 sfy their urges?\n\n*×*×*Be naked\, Be dressed up\, Be dressed down *×*
 ×*\n\n!!! The theme for the night is YOU !!!!\n\nAt my events I want you 
 all to be your gorgeous sexy selves\, wear what makes you feel amazing !!!
 \n\n***Urge is a full-on play event and not for the faint-hearted With 19 
 play areas including glory holes for men and women\, hot tub\, orgy room a
 nd much more\, your sure to fulfill those desires***\n\nThe bar area is ne
 utral ground and great to socialize\, play pool or shake it on the dance f
 loor and if you wish stay dressed (for the shy ones) we will still have so
 me fun here too\n\n**We pride ourselves on being an all-inclusive club all
  we ask is you respect the club and all who attend and remember no mean no
 \, oh and of course enjoy yourselves**\n\nPRICE LIST\n\n£30 Couples\n\n£
 30 Single men\n\n£10 Single female\n\n£10 Tgirls\,TS\,s and Trans\n\n(Fr
 ee buffet included)\n\nRefundable Locker Deposit £10\n\nTowels hire £1 e
 ach\n\nCome and satisfy that URGE let club play be the place to cum!! \n\
 nPlease add your names in the forum or private message me to be added to t
 he guest list\n\nSee you there\, maybe in a playroom xxx\n\npurple-lust \
 n\nTo add to the guestlist comment below or message the club directly xxx
ATTACH;FMTTYPE=image/jpeg:https://clubplay.net/wp-content/uploads/2022/06/
 Urge-club-play-blackpool.jpg
LOCATION:Club Play\, Back Ribble Road\, Blackpool\, Lancashire\, FY1 4AB\, 
 United Kingdom
X-APPLE-STRUCTURED-LOCATION;VALUE=URI;X-ADDRESS=Back Ribble Road\, Blackpoo
 l\, Lancashire\, FY1 4AB\, United Kingdom;X-APPLE-RADIUS=100;X-TITLE=Club 
 Play:geo:0,0
END:VEVENT
BEGIN:VTIMEZONE
TZID:Europe/London
X-LIC-LOCATION:Europe/London
BEGIN:DAYLIGHT
DTSTART:20220327T020000
TZOFFSETFROM:+0000
TZOFFSETTO:+0100
TZNAME:BST
END:DAYLIGHT
END:VTIMEZONE
END:VCALENDAR