BEGIN:VCALENDAR
VERSION:2.0
PRODID:-//wp-events-plugin.com//7.2.3.1//EN
TZID:Europe/London
X-WR-TIMEZONE:Europe/London
BEGIN:VEVENT
UID:267@clubplay.net
DTSTART;TZID=Europe/London:20231111T130000
DTEND;TZID=Europe/London:20231112T030000
DTSTAMP:20231025T002340Z
URL:https://clubplay.net/events/winter-pride-club-play-7pm-till-3am-thread
 -onesaturday-11th-november/
SUMMARY:Winter Pride\, club play\, 1pm till 3am thread one…Saturday 11th 
 November
DESCRIPTION:We would like you to join us at Club Play 11th November for win
 ter pride\, get your bright-colored clothes on\, and let’s party… let
 ’s get socialising and interacting followed by loads of sexy play in the
  playrooms\,\n\nThere are complimentary shots on arrival\, a finger buffet
 \, music\, bring your own alcohol\, and soft drinks provided at the bar by
  one of the lovely bar staff…The club has 19 Playrooms\, a sauna\, a poo
 l\, a jacuzzi\, a great smoking area\, a big bar area\, a dance floor\, a 
 pool table\, showers\, and more\n\nSo get your names on the list ppl\n\nWe
 ’re going to raise the roof and party….\n\nDaytime only…\n\nCouples 
 £20.00\n\nSingle men £20.00\n\nSingle women free\n\nT-girls £10.00\n\nE
 vening only…\n\nCouples £30.00\n\nSingle men £30.00\n\nSingle women fr
 ee\n\nT-girls £10.00\n\nALL DAY….\n\nCouples £40.00\n\nSingle men £40
 .00\n\nSingle women free\n\nT girls £15.00\n\nWe InkedMrG / carnage party
 ’s\n\nand everyone from club play looks forward to seeing everyone… le
 t’s raise the roof and let’s party.\n\nTo add the guest list please ad
 d your name below or message the club directly xxx
ATTACH;FMTTYPE=image/jpeg:https://clubplay.net/wp-content/uploads/2023/09/
 IMG-20231023-WA0005.jpg
LOCATION:Club Play\, Back Ribble Road\, Blackpool\, Lancashire\, FY1 4AD\, 
 United Kingdom
X-APPLE-STRUCTURED-LOCATION;VALUE=URI;X-ADDRESS=Back Ribble Road\, Blackpoo
 l\, Lancashire\, FY1 4AD\, United Kingdom;X-APPLE-RADIUS=100;X-TITLE=Club 
 Play:geo:0,0
END:VEVENT
BEGIN:VTIMEZONE
TZID:Europe/London
X-LIC-LOCATION:Europe/London
BEGIN:STANDARD
DTSTART:20231029T010000
TZOFFSETFROM:+0100
TZOFFSETTO:+0000
TZNAME:GMT
END:STANDARD
END:VTIMEZONE
END:VCALENDAR